BEGIN:VCALENDAR
VERSION:2.0
PRODID:-//MoistureShield - ECPv6.15.17.1//NONSGML v1.0//EN
CALSCALE:GREGORIAN
METHOD:PUBLISH
X-ORIGINAL-URL:https://www.moistureshield.com
X-WR-CALDESC:Events for MoistureShield
REFRESH-INTERVAL;VALUE=DURATION:PT1H
X-Robots-Tag:noindex
X-PUBLISHED-TTL:PT1H
BEGIN:VTIMEZONE
TZID:UTC
BEGIN:STANDARD
TZOFFSETFROM:+0000
TZOFFSETTO:+0000
TZNAME:UTC
DTSTART:20210101T000000
END:STANDARD
END:VTIMEZONE
BEGIN:VEVENT
DTSTART;VALUE=DATE:20220310
DTEND;VALUE=DATE:20220314
DTSTAMP:20260420T133739
CREATED:20220117T044115Z
LAST-MODIFIED:20250422T202852Z
UID:9131-1646870400-1647215999@www.moistureshield.com
SUMMARY:National Home Show (Montreal)
DESCRIPTION:
URL:https://www.moistureshield.com/event/national-home-show-montreal/
LOCATION:Palais des Congrés\, 1001\, Place Jean-Paul-Riopelle\, Montréal\, QC\, H2Z 1H2\, Canada
END:VEVENT
BEGIN:VEVENT
DTSTART;VALUE=DATE:20220216
DTEND;VALUE=DATE:20220321
DTSTAMP:20260420T133739
CREATED:20220117T043924Z
LAST-MODIFIED:20250422T202910Z
UID:9128-1644969600-1647820799@www.moistureshield.com
SUMMARY:Miami International Boat Show
DESCRIPTION:
URL:https://www.moistureshield.com/event/miami-international-boat-show/
LOCATION:Miami Beach Convention Center\, 1901 Convention Center Dr\, Miami Beach\, Florida\, 33139
END:VEVENT
BEGIN:VEVENT
DTSTART;VALUE=DATE:20220208
DTEND;VALUE=DATE:20220211
DTSTAMP:20260420T133739
CREATED:20220117T043225Z
LAST-MODIFIED:20250422T203011Z
UID:9119-1644278400-1644537599@www.moistureshield.com
SUMMARY:IBS 2022
DESCRIPTION:Explore the MoistureShield Decking Experience at IBS 2022\nDiscover our collection of innovative composite decking products as you build connections to grow your business. Visit MoistureShield Booth #W4443 at the NAHB International Builders’ Show February 8-10\, 2022 at the Orange County Convention Center in Orlando\, FL. \nWhat to Expect Inside the MoistureShield Booth\nWant a sneak peek? Take a look at the bird's-eye view of our IBS Booth #W4443 to get prepared for your experience. \n \n  \nCheck Out the MoistureShield Product Offering\nExplore the innovations leading the composite decking industry. From our CoolDeck™ Technology to accessories that step up your install—get hands on as you experience everything MoistureShield has to offer. \n\n \nVision\nStep up to the future of composite decking. Protected with our exclusive DiamondDefense™ Coating to exude distinctive style while resisting scratches\, stains\, and damage on impact. \n\n \nMeridian\nCreate the perfect outdoor escape — get a natural wood look without all the upkeep. Featuring TruTexture™ Surface\, our capped composite decking board evokes the look and feel of real wood and is combined with all the protection and performance of the Solid Core Difference™. \n\n \nElevate\nGet advanced protection and beauty without breaking your budget. Our introductory capped wood composite board is shielded with a strong\, protective barrier to help prevent damage from impact\, corrosion\, and weathering in virtually any environment. \n\nHidden Fasteners\nGet the most seamless installation possible with our exclusive hidden deck fastening system—backed by a limited lifetime warranty against any loose deck boards. \n\nCladding\nProtect exteriors with the durability of Solid Core and elegance of an architect’s eye. Our composite cladding products provide all the beauty with none of the long-term maintenance. \n\nJoist Tape\nProtect the deck substructure with an additional moisture barrier. \n  \nBrands that Transform\nMeet Belgard inside the MoistureShield booth. As part of the Oldcastle APG family\, Belgard Hardscapes and Pavers add sophistication and beauty to any outdoor living space\, pairing perfectly with MoistureShield composite decking boards. \n  \nScore a DeWalt Jobsite Radio\nBe sure to enter our giveaway when you stop by our booth. We’re giving away a DeWalt ToughSystem Radio and Charger to one lucky contractor that signs up to join our exclusive MVP program. \nThe MoistureShield Valued Partner Contractor Program grants exclusive access to members for product training\, support\, exclusive leads\, and helps you earn points in your Contractor Rewards Account. \nFind Out More Now \nGet Outside the Ordinary\nEnjoy the outdoors to the fullest\, wherever you call home. MoistureShield offers 360-degree protection\, 365 days a year. \n 
URL:https://www.moistureshield.com/event/ibs-2022/
LOCATION:Orange County Convention Center (OCCC)\, 9800 International Drive\, Orlando\, Florida\, 32819
END:VEVENT
END:VCALENDAR