BEGIN:VCALENDAR
VERSION:2.0
PRODID:-//MoistureShield - ECPv6.15.17.1//NONSGML v1.0//EN
CALSCALE:GREGORIAN
METHOD:PUBLISH
X-WR-CALNAME:MoistureShield
X-ORIGINAL-URL:https://www.moistureshield.com
X-WR-CALDESC:Events for MoistureShield
REFRESH-INTERVAL;VALUE=DURATION:PT1H
X-Robots-Tag:noindex
X-PUBLISHED-TTL:PT1H
BEGIN:VTIMEZONE
TZID:UTC
BEGIN:STANDARD
TZOFFSETFROM:+0000
TZOFFSETTO:+0000
TZNAME:UTC
DTSTART:20250101T000000
END:STANDARD
END:VTIMEZONE
BEGIN:VEVENT
DTSTART;TZID=UTC:20260217T080000
DTEND;TZID=UTC:20260219T170000
DTSTAMP:20260420T102707
CREATED:20260204T204011Z
LAST-MODIFIED:20260204T204011Z
UID:73235-1771315200-1771520400@www.moistureshield.com
SUMMARY:Master Halco Masters Club - Orlando\, FL
DESCRIPTION:[vc_row][vc_column][vc_column_text]Look for us at the Oldcastle APG booth #604[/vc_column_text][/vc_column][/vc_row]
URL:https://www.moistureshield.com/event/master-halco-masters-club-orlando-fl/
END:VEVENT
BEGIN:VEVENT
DTSTART;TZID=UTC:20260217T080000
DTEND;TZID=UTC:20260219T170000
DTSTAMP:20260420T102707
CREATED:20260204T204056Z
LAST-MODIFIED:20260204T204056Z
UID:73233-1771315200-1771520400@www.moistureshield.com
SUMMARY:International Builders Show - Orlando\, FL
DESCRIPTION:[vc_row][vc_column][vc_column_text]Look for us at the Oldcastle APG booth #W3467[/vc_column_text][/vc_column][/vc_row]
URL:https://www.moistureshield.com/event/international-builders-show-orlando-fl/
END:VEVENT
BEGIN:VEVENT
DTSTART;TZID=UTC:20260302T080000
DTEND;TZID=UTC:20260304T170000
DTSTAMP:20260420T102707
CREATED:20260204T203901Z
LAST-MODIFIED:20260204T203901Z
UID:73236-1772438400-1772643600@www.moistureshield.com
SUMMARY:LBM Advantage - Nashville\, TN
DESCRIPTION:[vc_row][vc_column][vc_column_text css=""]Look for us at booth #307\, exhibiting with sister brand RDI Railing[/vc_column_text][/vc_column][/vc_row]
URL:https://www.moistureshield.com/event/lbm-advantage-nashville-tn/
END:VEVENT
BEGIN:VEVENT
DTSTART;TZID=UTC:20260305T080000
DTEND;TZID=UTC:20260305T170000
DTSTAMP:20260420T102707
CREATED:20260204T203809Z
LAST-MODIFIED:20260204T203809Z
UID:73237-1772697600-1772730000@www.moistureshield.com
SUMMARY:Carter Lumber Show - Akron\, OH
DESCRIPTION:[vc_row][vc_column][vc_column_text]Look for us at the show[/vc_column_text][/vc_column][/vc_row]
URL:https://www.moistureshield.com/event/carter-lumber-show-akron-oh/
END:VEVENT
BEGIN:VEVENT
DTSTART;TZID=UTC:20260311T080000
DTEND;TZID=UTC:20260311T170000
DTSTAMP:20260420T102707
CREATED:20260204T203700Z
LAST-MODIFIED:20260204T203700Z
UID:73238-1773216000-1773248400@www.moistureshield.com
SUMMARY:IDEAS Show - King of Prussia\, PA
DESCRIPTION:[vc_row][vc_column][vc_column_text css=""]Look for us at Booth #410\, exhibiting with sister brand RDI Railing[/vc_column_text][/vc_column][/vc_row]
URL:https://www.moistureshield.com/event/ideas-show-king-of-prussia-pa-2/
END:VEVENT
BEGIN:VEVENT
DTSTART;TZID=UTC:20260326T080000
DTEND;TZID=UTC:20260328T170000
DTSTAMP:20260420T102707
CREATED:20260204T203553Z
LAST-MODIFIED:20260204T203553Z
UID:73239-1774512000-1774717200@www.moistureshield.com
SUMMARY:JLC Live - Providence\, RI
DESCRIPTION:[vc_row][vc_column][vc_column_text]Look for us at booth #215\, exhibiting with sister brand RDI Railing[/vc_column_text][/vc_column][/vc_row]
URL:https://www.moistureshield.com/event/jlc-live-providence-ri/
END:VEVENT
END:VCALENDAR